BEGIN:VCALENDAR
VERSION:2.0
PRODID:spatie/icalendar-generator
DESCRIPTION:Veranstaltungen von Spieleverein Böblingen
X-WR-CALDESC:Veranstaltungen von Spieleverein Böblingen
REFRESH-INTERVAL;VALUE=DURATION:PT1440M
X-PUBLISHED-TTL:PT1440M
BEGIN:VTIMEZONE
TZID:Europe/Berlin
BEGIN:STANDARD
DTSTART:20251026T030000Z
TZOFFSETFROM:+0200
TZOFFSETTO:+0100
END:STANDARD
BEGIN:DAYLIGHT
DTSTART:20260329T020000Z
TZOFFSETFROM:+0100
TZOFFSETTO:+0200
END:DAYLIGHT
BEGIN:STANDARD
DTSTART:20261025T030000Z
TZOFFSETFROM:+0200
TZOFFSETTO:+0100
END:STANDARD
END:VTIMEZONE
BEGIN:VTIMEZONE
TZID:UTC
BEGIN:STANDARD
DTSTART:20250725T122421Z
TZOFFSETFROM:+0000
TZOFFSETTO:+0000
END:STANDARD
END:VTIMEZONE
BEGIN:VEVENT
UID:282-20
DTSTAMP:20260421T122421Z
SUMMARY:Spielesamstag
LOCATION:Treff am See Poststraße 38  Böblingen  71032
ORGANIZER;CN=Wolfgang Leyrer:MAILTO:leyrer.wolfgang@gmail.com
RRULE:FREQ=MONTHLY;BYDAY=3SA;UNTIL=20261130T000000Z
DTSTART;TZID=Europe/Berlin:20260516T140000
DTEND;TZID=Europe/Berlin:20260516T235900
X-ALT-DESC;FMTTYPE=TEXT/HTML:
CATEGORIES:Spieletag am Wochenende
URL;VALUE=URI:https://spieleverein-boeblingen.de/mc-events/spielesamstag-2/
 ?mc_id=282
METHOD:PUBLISH
END:VEVENT
END:VCALENDAR