BEGIN:VCALENDAR
VERSION:2.0
PRODID:spatie/icalendar-generator
DESCRIPTION:Veranstaltungen von Spieleverein Böblingen
X-WR-CALDESC:Veranstaltungen von Spieleverein Böblingen
REFRESH-INTERVAL;VALUE=DURATION:PT1440M
X-PUBLISHED-TTL:PT1440M
BEGIN:VTIMEZONE
TZID:Europe/Berlin
BEGIN:STANDARD
DTSTART:20251026T030000Z
TZOFFSETFROM:+0200
TZOFFSETTO:+0100
END:STANDARD
BEGIN:DAYLIGHT
DTSTART:20260329T020000Z
TZOFFSETFROM:+0100
TZOFFSETTO:+0200
END:DAYLIGHT
BEGIN:STANDARD
DTSTART:20261025T030000Z
TZOFFSETFROM:+0200
TZOFFSETTO:+0100
END:STANDARD
END:VTIMEZONE
BEGIN:VTIMEZONE
TZID:UTC
BEGIN:STANDARD
DTSTART:20250725T092744Z
TZOFFSETFROM:+0000
TZOFFSETTO:+0000
END:STANDARD
END:VTIMEZONE
BEGIN:VEVENT
UID:294-27
DTSTAMP:20260421T092744Z
SUMMARY:Auryn
LOCATION:Waldheim Tannenberg
ORGANIZER;CN=Wolfgang Leyrer:MAILTO:leyrer.wolfgang@gmail.com
DTSTART;TZID=Europe/Berlin;VALUE=DATE:20260619
DTEND;TZID=Europe/Berlin;VALUE=DATE:20260622
X-ALT-DESC;FMTTYPE=TEXT/HTML:
CATEGORIES:sonstige Veranstaltung
URL;VALUE=URI:https://spieleverein-boeblingen.de/mc-events/auryn-2/
METHOD:PUBLISH
END:VEVENT
END:VCALENDAR